BEGIN:VCALENDAR
VERSION:2.0
PRODID:-//Catholiques de Fontenay Sous Bois - ECPv6.2.6//NONSGML v1.0//EN
CALSCALE:GREGORIAN
METHOD:PUBLISH
X-WR-CALNAME:Catholiques de Fontenay Sous Bois
X-ORIGINAL-URL:https://catho94-fontenay.cef.fr
X-WR-CALDESC:évènements pour Catholiques de Fontenay Sous Bois
REFRESH-INTERVAL;VALUE=DURATION:PT1H
X-Robots-Tag:noindex
X-PUBLISHED-TTL:PT1H
BEGIN:VTIMEZONE
TZID:Europe/Paris
BEGIN:DAYLIGHT
TZOFFSETFROM:+0100
TZOFFSETTO:+0200
TZNAME:CEST
DTSTART:20250330T010000
END:DAYLIGHT
BEGIN:STANDARD
TZOFFSETFROM:+0200
TZOFFSETTO:+0100
TZNAME:CET
DTSTART:20251026T010000
END:STANDARD
END:VTIMEZONE
BEGIN:VEVENT
DTSTART;TZID=Europe/Paris:20250202T103000
DTEND;TZID=Europe/Paris:20250202T170000
DTSTAMP:20260421T144820
CREATED:20250120T182151Z
LAST-MODIFIED:20250201T213348Z
UID:10000180-1738492200-1738515600@catho94-fontenay.cef.fr
SUMMARY:La quête de la lumière
DESCRIPTION:Fête de la lumière \n\n\n\nJournée de prière pour la vie consacrée. \n\n\n\nPour vivre une grande journée du jubilé 2025. \n\n\n\nGrand jeu pour tous dans tout le diocèse de Créteil. \n\n\n\nPour rencontrer les consacrées qui habitent près de chez nous. \n\n\n\nPour fêter la présentation de Jésus au Temple. \n\n\n\nLe programme pour Sainte Thérèse: \n\n\n\n10h30 : messe nous rencontrerons une communauté religieuse de notre doyenne \n\n\n\n12h: repas partagé\, jeu quiz autour du Jubilé. \n\n\n\nUn car nous emmène à la cathédrale de Créteil. \n\n\n\nDépart a 15h devant l’église. \n\n\n\nPlaces limitées à 50 pour les paroisses de Sainte Thérèse et Saint Jean XXIII \n\n\n\nInscription obligatoire sur la feuille au fond de l’eglise. \n\n\n\nParticipation de 2 euros \n\n\n\n16h : conclusion du jeu et gouter. \n\n\n\n17h : vêpres à la cathédrale puis retour en car à Fontenay.
URL:https://catho94-fontenay.cef.fr/evenement/la-quete-de-la-lumiere/
CATEGORIES:Sainte Thérèse
END:VEVENT
END:VCALENDAR