BEGIN:VCALENDAR
VERSION:2.0
PRODID:-//Catholiques de Fontenay Sous Bois - ECPv6.2.6//NONSGML v1.0//EN
CALSCALE:GREGORIAN
METHOD:PUBLISH
X-ORIGINAL-URL:https://catho94-fontenay.cef.fr
X-WR-CALDESC:évènements pour Catholiques de Fontenay Sous Bois
REFRESH-INTERVAL;VALUE=DURATION:PT1H
X-Robots-Tag:noindex
X-PUBLISHED-TTL:PT1H
BEGIN:VTIMEZONE
TZID:Europe/Paris
BEGIN:DAYLIGHT
TZOFFSETFROM:+0100
TZOFFSETTO:+0200
TZNAME:CEST
DTSTART:20220327T010000
END:DAYLIGHT
BEGIN:STANDARD
TZOFFSETFROM:+0200
TZOFFSETTO:+0100
TZNAME:CET
DTSTART:20221030T010000
END:STANDARD
END:VTIMEZONE
BEGIN:VEVENT
DTSTART;TZID=Europe/Paris:20221127T170000
DTEND;TZID=Europe/Paris:20221127T180000
DTSTAMP:20260421T121402
CREATED:20221120T221456Z
LAST-MODIFIED:20221120T221457Z
UID:10000122-1669568400-1669572000@catho94-fontenay.cef.fr
SUMMARY:Spectacle de stand-up "un français de plus"
DESCRIPTION:Ouvert à tous ! La maison du 49 est fière de vous inviter à un moment exceptionnel : le nouveau spectacle de l’humoriste masqué Gaby HOAYEK\,  « Un Français de plus »\, pour la première fois en français. \n\n\n\nGaby HOAYEK est une star de l’humour au Liban depuis sa médaille d’or de l’émission « Studio el fan » en 1993.  Il est aussi acteur\, scénariste d’émissions de télévision et de comédies\, directeur de ses pièces\, présentateur de télévision et musicien. \n\n\n\nRéservation par simple SMS à Olivier au 06 61 88 25 31
URL:https://catho94-fontenay.cef.fr/evenement/spectacle-de-stand-up-un-francais-de-plus-2/
LOCATION:Le 49 – Oblats de Marie Immaculée\, 49\, rue Dalayrac\, Fontenay sous bois\, 94120\, France
CATEGORIES:Le 49
ORGANIZER;CN="Olivier Stevens":MAILTO:maison@maisondu49.org
END:VEVENT
END:VCALENDAR